BEGIN:VCALENDAR
VERSION:2.0
PRODID:-//Keep it a Secret - ECPv5.4.0//NONSGML v1.0//EN
CALSCALE:GREGORIAN
METHOD:PUBLISH
X-WR-CALNAME:Keep it a Secret
X-ORIGINAL-URL:http://www.keepitasecret.de
X-WR-CALDESC:Veranstaltungen für Keep it a Secret
BEGIN:VTIMEZONE
TZID:Europe/Berlin
BEGIN:DAYLIGHT
TZOFFSETFROM:+0100
TZOFFSETTO:+0200
TZNAME:CEST
DTSTART:20200329T010000
END:DAYLIGHT
BEGIN:STANDARD
TZOFFSETFROM:+0200
TZOFFSETTO:+0100
TZNAME:CET
DTSTART:20201025T010000
END:STANDARD
END:VTIMEZONE
BEGIN:VEVENT
DTSTART;TZID=Europe/Berlin:20201114T200000
DTEND;TZID=Europe/Berlin:20201114T233000
DTSTAMP:20260425T155011
CREATED:20201013T180444Z
LAST-MODIFIED:20210212T085043Z
UID:551-1605384000-1605396600@www.keepitasecret.de
SUMMARY:10 Years of Keep it a Secret
DESCRIPTION:Einlass: 20:00 | Beginn: 21:00Eintritt: 7 € + X | An der Abendkasse\, Reservierung unter booking@keepitasecret.de erwünscht \nPräsentiert von Keep it a Secret Booking: Mit 10 Jahren kann man schon mal eine ordentliche Party feiern\, mit Topfschlagen\, Spaghetti und Schnuggeltüte für den Heimweg. Das war auch der Plan\, mal so richtig schön gute und befreundete Bands einladen\, zwei Tage Punkrock-Show mit ordentlich laut\, Pogo und Schwitzen. Hach… \nDoch bekanntlich geht das alles nicht. Also machen wir es anders. Freunde kommen trotzdem vorbei\, und das ist schön. Man könnte sogar so weit gehen und sagen\, dass sich Aachens zweit- und drittbeste Band quasi selbst eingeladen haben. So ist das eben manchmal mit der Familie.Dann gibt es halt LA FAMILIA und DIE DEISLERS dieses Mal in bestuhlt. Laut können sie trotzdem. Und jemand Weißes hat mal gesagt: „Punkrock im Sitzen ist immer noch besser als kein Punkrock.“Gaaaanz zufällig wird an diesem Tag auch noch das German Compliment #5 Fanzine erscheinen. Doppelt Freude. \nLA FAMILIAhttps://www.facebook.com/lafamiliaskahttp://www.lafamiliaska.bandcamp.com/ \nDIE DEISLERShttp://www.keepitasecret.de/bands/diedeislershttp://www.facebook.com/diedeislershttp://diedeislers.bandcamp.comhttp://www.instagram.com/diedeislers \n HYGIENE-REGELN• Begrenzte Platzanzahl von 20 Plätzen• Die Veranstaltung findet bestuhlt statt; es gibt eine Platzanweisung• Der Mindestabstand zu anderen Personen von mind. 1\,5 m ist einzuhalten• Am Einlass müssen wir die Kontaktdaten aller Gäste aufnehmen; diese werden nach der vorgeschriebenen Aufbewahrungsdauer vernichtet• Laufwege werden durch Bodenmarkierungen angezeigt• Beim Einlass und Platzeinnehmen sowie bei Gängen zu Klo oder Theke\, wobei eine Wahrung des Mindestabstands nicht absolut garantiert werden kann\, ist ein Mund-Nase-Schutz zu tragen
URL:http://www.keepitasecret.de/event/10-years-of-keep-it-a-secret/
LOCATION:Kreativfabrik\, Murnaustraße 2\, Wiesbaden\, Hessen\, 65189\, Germany
END:VEVENT
END:VCALENDAR