BEGIN:VCALENDAR
VERSION:2.0
PRODID:-//Keep it a Secret - ECPv5.4.0//NONSGML v1.0//EN
CALSCALE:GREGORIAN
METHOD:PUBLISH
X-WR-CALNAME:Keep it a Secret
X-ORIGINAL-URL:http://www.keepitasecret.de
X-WR-CALDESC:Veranstaltungen für Keep it a Secret
BEGIN:VTIMEZONE
TZID:Europe/Berlin
BEGIN:DAYLIGHT
TZOFFSETFROM:+0100
TZOFFSETTO:+0200
TZNAME:CEST
DTSTART:20200329T010000
END:DAYLIGHT
BEGIN:STANDARD
TZOFFSETFROM:+0200
TZOFFSETTO:+0100
TZNAME:CET
DTSTART:20201025T010000
END:STANDARD
END:VTIMEZONE
BEGIN:VEVENT
DTSTART;TZID=Europe/Berlin:20200814T200000
DTEND;TZID=Europe/Berlin:20200814T200000
DTSTAMP:20260425T141744
CREATED:20200804T103252Z
LAST-MODIFIED:20200818T083721Z
UID:282-1597435200-1597435200@www.keepitasecret.de
SUMMARY:Austin Lucas | Kulturcafe Mainz
DESCRIPTION:Einlass: 20:00 | Beginn: 21:00\nEintritt: AK 5 €\nReservierungen unter booking@keepitasecret.de \nPräsentiert von Keep it a Secret Booking: Live-Konzert im Biergarten mit Austin Lucas\, Country/Folk/Singer/Songwriter aus Bloomington\, Indiana. Vor anderthalb Jahren war er schon einmal im Kulturcafe zu Gast\, dieses Mal im Biergarten. Im Anschluss an das Konzert gibt es Rock’n’Roll aus der DJ-Dose \n„Although Austin had grown up in the world of hardcore and punk\, several things set him apart from the pack in the emerging folk punk genre. While many of his peers presented punk songs stripped down into the acoustic realm\, Austin had a traditional aesthetic\, gathered through a lifetime of folk and country music influences and the benefit of being born into a widely respected familial musical and songwriting pedigree. Seeing both seemingly disparate worlds through the lens of personal experience\, he was able to temper the influence of acoustic mountain music in the fires of a uniquely anarchist and anti fascist\, punk perspective. Blazing a now well-worn trail for others\, Austin made something new that was entirely his own.“ \n AUSTIN LUCAS\nhttps://www.austinlucas.com/\n https://www.facebook.com/austinlucasmusic\n https://www.youtube.com/channel/UCIw7jp9q_gNEGEvNY2-KJ2A/ \n HYGIENE-REGELN\n– Der Mindestabstand zu anderen Personen von mind. 1\,5 m ist einzuhalten\n– Am Einlass müssen wir die Kontaktdaten aller Gäste aufnehmen; diese werden nach der vorgeschriebenen Aufbewahrungsdauer vernichtet\n– Das Konzert findet bestuhlt statt; es gibt eine Platzanweisung\n– Beim Einlass und Platzeinnehmen sowie bei Gängen zu Klo oder Theke\, wobei eine Wahrung des Mindestabstands nicht absolut garantiert werden kann\, ist ein Mund-Nase-Schutz zu tragen
URL:http://www.keepitasecret.de/event/austin-lucas/
LOCATION:Kulturcafe\, Johann-Joachim-Becherweg 5\, Mainz\, Rheinland-Pfalz\, 55118\, Germany
END:VEVENT
END:VCALENDAR